BEGIN:VCALENDAR
METHOD:PUBLISH
PRODID:Data::ICal 0.13
VERSION:2.0
BEGIN:VEVENT
DESCRIPTION:🎤✨ BALTIMORE GET READY! ✨🎤

It’s going down this Father’s Day with a night of powerful praise and unforgettable gospel excellence!

Featuring Grammy Award Winner Pastor Shirley Caesar and an incredible lineup that will bless your soul! 🙌🏾

📍 2201 Argonne Drive, Baltimore, MD 21208
🎟️ VIP &amp; General Admission Available Now

Scan the QR codes on the flyer to secure your seats TODAY!

Don’t miss this uplifting celebration—bring your family, honor the fathers, and experience a night filled with joy, worship, and legendary gospel music!

🔥 Early Bird tickets available NOW—don’t wait!

#BaltimoreEvents #FathersDay #
DTSTAMP:20260425T005801Z
DTSTART;TZID=America/New_York:20260621T160000
DTEND;TZID=America/New_York:20260621T200000
LOCATION:
SUMMARY:Father’s Day Gospel Celebration Featuring Shirley Caesar
UID:1881421-1782057600-1782072000
END:VEVENT
END:VCALENDAR
